BEGIN:VCALENDAR
VERSION:2.0
PRODID:-//Alte Ausspanne Walkendorf - ECPv6.2.2.1//NONSGML v1.0//EN
CALSCALE:GREGORIAN
METHOD:PUBLISH
X-WR-CALNAME:Alte Ausspanne Walkendorf
X-ORIGINAL-URL:https://ausspanne-wossidlo.de
X-WR-CALDESC:Veranstaltungen für Alte Ausspanne Walkendorf
REFRESH-INTERVAL;VALUE=DURATION:PT1H
X-Robots-Tag:noindex
X-PUBLISHED-TTL:PT1H
BEGIN:VTIMEZONE
TZID:UTC
BEGIN:STANDARD
TZOFFSETFROM:+0000
TZOFFSETTO:+0000
TZNAME:UTC
DTSTART:20230101T000000
END:STANDARD
END:VTIMEZONE
BEGIN:VEVENT
DTSTART;TZID=UTC:20230910T150000
DTEND;TZID=UTC:20230910T170000
DTSTAMP:20260424T134458
CREATED:20230809T153229Z
LAST-MODIFIED:20230809T153229Z
UID:6499-1694358000-1694365200@ausspanne-wossidlo.de
SUMMARY:Doggerland auf Gut Dalwitz im Quincho
DESCRIPTION:10.09.2023 15:00 Uhr Eintritt 10\,00 €\nKraftvoller Gesang\, innovative Arrangements und ungwöhnliche Instumentierung tragen zu „Doggerlands“ unverwechelbarem Klang bei.
URL:https://ausspanne-wossidlo.de/event/doggerland-auf-gut-dalwitz-im-quincho/
CATEGORIES:Konzert
ATTACH;FMTTYPE=image/jpeg:https://ausspanne-wossidlo.de/wp-content/uploads/2023/08/doggerland_10.09.2023.jpg
END:VEVENT
END:VCALENDAR