BEGIN:VCALENDAR
VERSION:2.0
PRODID:-//Alte Ausspanne Walkendorf - ECPv6.2.2.1//NONSGML v1.0//EN
CALSCALE:GREGORIAN
METHOD:PUBLISH
X-ORIGINAL-URL:https://ausspanne-wossidlo.de
X-WR-CALDESC:Veranstaltungen für Alte Ausspanne Walkendorf
REFRESH-INTERVAL;VALUE=DURATION:PT1H
X-Robots-Tag:noindex
X-PUBLISHED-TTL:PT1H
BEGIN:VTIMEZONE
TZID:UTC
BEGIN:STANDARD
TZOFFSETFROM:+0000
TZOFFSETTO:+0000
TZNAME:UTC
DTSTART:20230101T000000
END:STANDARD
END:VTIMEZONE
BEGIN:VEVENT
DTSTART;TZID=UTC:20230721T170000
DTEND;TZID=UTC:20230721T190000
DTSTAMP:20260424T191110
CREATED:20230718T102523Z
LAST-MODIFIED:20230718T102523Z
UID:6495-1689958800-1689966000@ausspanne-wossidlo.de
SUMMARY:Marianne Kindt
DESCRIPTION:Es erwarten Sie tierisch gute Bilder!
URL:https://ausspanne-wossidlo.de/event/marianne-kindt/
CATEGORIES:Malerei
ATTACH;FMTTYPE=image/jpeg:https://ausspanne-wossidlo.de/wp-content/uploads/2023/07/malerei_marianne_kindt.jpg
END:VEVENT
END:VCALENDAR