BEGIN:VCALENDAR
VERSION:2.0
PRODID:-//Alte Ausspanne Walkendorf - ECPv6.2.2.1//NONSGML v1.0//EN
CALSCALE:GREGORIAN
METHOD:PUBLISH
X-WR-CALNAME:Alte Ausspanne Walkendorf
X-ORIGINAL-URL:https://ausspanne-wossidlo.de
X-WR-CALDESC:Veranstaltungen für Alte Ausspanne Walkendorf
REFRESH-INTERVAL;VALUE=DURATION:PT1H
X-Robots-Tag:noindex
X-PUBLISHED-TTL:PT1H
BEGIN:VTIMEZONE
TZID:UTC
BEGIN:STANDARD
TZOFFSETFROM:+0000
TZOFFSETTO:+0000
TZNAME:UTC
DTSTART:20230101T000000
END:STANDARD
END:VTIMEZONE
BEGIN:VEVENT
DTSTART;TZID=UTC:20230409T080000
DTEND;TZID=UTC:20230611T170000
DTSTAMP:20260424T221725
CREATED:20230403T073228Z
LAST-MODIFIED:20230403T153012Z
UID:6404-1681027200-1686502800@ausspanne-wossidlo.de
SUMMARY:SILKE VOSS
DESCRIPTION:Ihre reiche Phantasie hat sie auf einen mecklenburgischen Hof mitgenommen: auf leuchtenden Leinwandwelten tummeln sich fröhlich geblümte Acryl-Katzen\, freundliche\, fette und genießerische Könige und immer wieder Frauen.\nFrauen in all ihrem Facetten-Reichtum: zigarrerauchende Großstadt-Trendsetterinnen\, die nächtens auf Kühen reiten oder Pumuckel-Prinzessinnen mit verlornem Schuh am Ostseestrand.\n\nStudium Kunsterziehung an der Humboldt-Universität Berlin\nStudium Kunstgeschichte und Germanistik an der Freien Universität Berlin\ntätig als Malerin und Journalistin\nBuchveröffentlichungen
URL:https://ausspanne-wossidlo.de/event/silke-voss/
LOCATION:Alte Ausspanne Walkendorf\, Alte Ausspanne Walkendorf Dorfstraße 7\, Walkendorf\, 17179\, Deutschland
CATEGORIES:Malerei
ATTACH;FMTTYPE=image/png:https://ausspanne-wossidlo.de/wp-content/uploads/2023/04/Bildschirmfoto-2023-04-03-um-09.31.49.png
END:VEVENT
END:VCALENDAR